BEGIN:VCALENDAR
VERSION:2.0
PRODID:-//Date iCal//NONSGML kigkonsult.se iCalcreator 2.20.2//
METHOD:PUBLISH
X-WR-CALNAME;VALUE=TEXT:Axenda de Galica Aberta
BEGIN:VTIMEZONE
TZID:Europe/Madrid
BEGIN:STANDARD
DTSTART:20191027T030000
TZOFFSETFROM:+0200
TZOFFSETTO:+0100
TZNAME:CET
END:STANDARD
BEGIN:DAYLIGHT
DTSTART:20190331T020000
TZOFFSETFROM:+0100
TZOFFSETTO:+0200
TZNAME:CEST
END:DAYLIGHT
END:VTIMEZONE
BEGIN:VEVENT
UID:calendar.38780.field_inicio.0@emigracion.xunta.gal
DTSTAMP:20260419T150842Z
CREATED:20190801T071944Z
DESCRIPTION:Día do/a Neno/a 2019\, no Val Miñor de Bos Aires\n\nhttps://emi
 gracion.xunta.gal/actualidade/axenda/dia-doa-nenoa-2019-no-val-minor-bos-a
 ires
DTSTART;TZID=Europe/Madrid:20190810T160000
DTEND;TZID=Europe/Madrid:20190810T160000
LAST-MODIFIED:20190801T075551Z
SUMMARY:Día do/a Neno/a 2019\, no Val Miñor de Bos Aires
URL;TYPE=URI:https://emigracion.xunta.gal/actualidade/axenda/dia-doa-nenoa-
 2019-no-val-minor-bos-aires
END:VEVENT
END:VCALENDAR
