BEGIN:VCALENDAR
VERSION:2.0
PRODID:-//Date iCal//NONSGML kigkonsult.se iCalcreator 2.20.2//
METHOD:PUBLISH
X-WR-CALNAME;VALUE=TEXT:Axenda de Galica Aberta
BEGIN:VTIMEZONE
TZID:Europe/Madrid
BEGIN:STANDARD
DTSTART:20181028T030000
TZOFFSETFROM:+0200
TZOFFSETTO:+0100
TZNAME:CET
END:STANDARD
BEGIN:DAYLIGHT
DTSTART:20190331T020000
TZOFFSETFROM:+0100
TZOFFSETTO:+0200
TZNAME:CEST
END:DAYLIGHT
END:VTIMEZONE
BEGIN:VEVENT
UID:calendar.37397.field_inicio.0@emigracion.xunta.gal
DTSTAMP:20260419T153247Z
CREATED:20181115T102733Z
DESCRIPTION:Charla informativa sobre temas fiscais\, consulares e da Consel
 laría de Traballo\, Migracións e Seguridade Social\, en Zúric\n\nhttps://e
 migracion.xunta.gal/actualidade/axenda/charla-informativa-sobre-temas-fisc
 ais-consulares-e-consellaria-traballo
DTSTART;TZID=Europe/Madrid:20181125T160000
DTEND;TZID=Europe/Madrid:20181125T160000
LAST-MODIFIED:20190718T111707Z
SUMMARY:Charla informativa sobre temas fiscais\, consulares e da Consellarí
 a de Traballo\, Migracións e Seguridade Social\, en Zúric
URL;TYPE=URI:https://emigracion.xunta.gal/actualidade/axenda/charla-informa
 tiva-sobre-temas-fiscais-consulares-e-consellaria-traballo
END:VEVENT
END:VCALENDAR
