BEGIN:VCALENDAR
VERSION:2.0
PRODID:-//Date iCal//NONSGML kigkonsult.se iCalcreator 2.20.2//
METHOD:PUBLISH
X-WR-CALNAME;VALUE=TEXT:Axenda de Galica Aberta
BEGIN:VTIMEZONE
TZID:Europe/Madrid
BEGIN:STANDARD
DTSTART:20171029T030000
TZOFFSETFROM:+0200
TZOFFSETTO:+0100
RDATE:20181028T030000
TZNAME:CET
END:STANDARD
BEGIN:DAYLIGHT
DTSTART:20180325T020000
TZOFFSETFROM:+0100
TZOFFSETTO:+0200
TZNAME:CEST
END:DAYLIGHT
END:VTIMEZONE
BEGIN:VEVENT
UID:calendar.36191.field_inicio.0@emigracion.xunta.gal
DTSTAMP:20260420T085934Z
CREATED:20180417T092017Z
DESCRIPTION:Xuntanza solidaria por Sebas\, no Centro Arzuano Melidense de B
 os Aires\n\nhttps://emigracion.xunta.gal/actualidade/axenda/xuntanza-solid
 aria-sebas-no-centro-arzuano-melidense-bos-aires
DTSTART;TZID=Europe/Madrid:20180505T210000
DTEND;TZID=Europe/Madrid:20180505T210000
LAST-MODIFIED:20190718T111346Z
SUMMARY:Xuntanza solidaria por Sebas\, no Centro Arzuano Melidense de Bos A
 ires
URL;TYPE=URI:https://emigracion.xunta.gal/actualidade/axenda/xuntanza-solid
 aria-sebas-no-centro-arzuano-melidense-bos-aires
END:VEVENT
END:VCALENDAR
