BEGIN:VCALENDAR
VERSION:2.0
PRODID:-//Date iCal//NONSGML kigkonsult.se iCalcreator 2.20.2//
METHOD:PUBLISH
X-WR-CALNAME;VALUE=TEXT:Axenda de Galica Aberta
BEGIN:VTIMEZONE
TZID:Europe/Madrid
BEGIN:STANDARD
DTSTART:20171029T030000
TZOFFSETFROM:+0200
TZOFFSETTO:+0100
TZNAME:CET
END:STANDARD
BEGIN:DAYLIGHT
DTSTART:20180325T020000
TZOFFSETFROM:+0100
TZOFFSETTO:+0200
TZNAME:CEST
END:DAYLIGHT
END:VTIMEZONE
BEGIN:VEVENT
UID:calendar.35965.field_inicio.0@emigracion.xunta.gal
DTSTAMP:20260419T131634Z
CREATED:20180220T165911Z
DESCRIPTION:Baile-Cea da Queimada 2018 do Club España de Newark\n\nhttps://
 emigracion.xunta.gal/actualidade/axenda/baile-cea-queimada-2018-club-espan
 a-newark
DTSTART;TZID=Europe/Madrid:20180303T193000
DTEND;TZID=Europe/Madrid:20180303T193000
LAST-MODIFIED:20190718T111735Z
SUMMARY:Baile-Cea da Queimada 2018 do Club España de Newark
URL;TYPE=URI:https://emigracion.xunta.gal/actualidade/axenda/baile-cea-quei
 mada-2018-club-espana-newark
END:VEVENT
END:VCALENDAR
