BEGIN:VCALENDAR
VERSION:2.0
PRODID:-//Date iCal//NONSGML kigkonsult.se iCalcreator 2.20.2//
METHOD:PUBLISH
X-WR-CALNAME;VALUE=TEXT:Axenda de Galica Aberta
BEGIN:VTIMEZONE
TZID:Europe/Madrid
BEGIN:STANDARD
DTSTART:20171029T030000
TZOFFSETFROM:+0200
TZOFFSETTO:+0100
TZNAME:CET
END:STANDARD
BEGIN:DAYLIGHT
DTSTART:20170326T020000
TZOFFSETFROM:+0100
TZOFFSETTO:+0200
TZNAME:CEST
END:DAYLIGHT
END:VTIMEZONE
BEGIN:VEVENT
UID:calendar.34964.field_inicio.0@emigracion.xunta.gal
DTSTAMP:20260423T182808Z
CREATED:20170817T111800Z
DESCRIPTION:Charla informativa para maiores de 65 anos\, da Consellaría de 
 Emprego e Seguridade Social da Embaixada de España en Caracas\n\nhttps://e
 migracion.xunta.gal/actualidade/axenda/charla-informativa-maiores-65-anos-
 consellaria-emprego-e-seguridade-social
DTSTART;TZID=Europe/Madrid:20170824T170000
DTEND;TZID=Europe/Madrid:20170824T170000
LAST-MODIFIED:20190718T110410Z
SUMMARY:Charla informativa para maiores de 65 anos\, da Consellaría de Empr
 ego e Seguridade Social da Embaixada de España en Caracas
URL;TYPE=URI:https://emigracion.xunta.gal/actualidade/axenda/charla-informa
 tiva-maiores-65-anos-consellaria-emprego-e-seguridade-social
END:VEVENT
END:VCALENDAR
