BEGIN:VCALENDAR
VERSION:2.0
PRODID:-//Date iCal//NONSGML kigkonsult.se iCalcreator 2.20.2//
METHOD:PUBLISH
X-WR-CALNAME;VALUE=TEXT:Axenda de Galica Aberta
BEGIN:VTIMEZONE
TZID:Europe/Madrid
BEGIN:STANDARD
DTSTART:20161030T030000
TZOFFSETFROM:+0200
TZOFFSETTO:+0100
TZNAME:CET
END:STANDARD
BEGIN:DAYLIGHT
DTSTART:20170326T020000
TZOFFSETFROM:+0100
TZOFFSETTO:+0200
TZNAME:CEST
END:DAYLIGHT
END:VTIMEZONE
BEGIN:VEVENT
UID:calendar.33799.field_inicio.0@emigracion.xunta.gal
DTSTAMP:20260419T185316Z
CREATED:20170209T103908Z
DESCRIPTION:Gran Xantar Febreiro 2017 do Centro Cultural Partido da Estrada
  en Bos Aires\n\nhttps://emigracion.xunta.gal/actualidade/axenda/gran-xant
 ar-febreiro-2017-centro-cultural-partido-estrada-bos-aires
DTSTART;VALUE=DATE:20170219
DTEND;VALUE=DATE:20170220
LAST-MODIFIED:20190718T110042Z
SUMMARY:Gran Xantar Febreiro 2017 do Centro Cultural Partido da Estrada en 
 Bos Aires
URL;TYPE=URI:https://emigracion.xunta.gal/actualidade/axenda/gran-xantar-fe
 breiro-2017-centro-cultural-partido-estrada-bos-aires
END:VEVENT
END:VCALENDAR
