BEGIN:VCALENDAR
VERSION:2.0
PRODID:-//Date iCal//NONSGML kigkonsult.se iCalcreator 2.20.2//
METHOD:PUBLISH
X-WR-CALNAME;VALUE=TEXT:Axenda de Galica Aberta
BEGIN:VTIMEZONE
TZID:Europe/Madrid
BEGIN:STANDARD
DTSTART:20161030T030000
TZOFFSETFROM:+0200
TZOFFSETTO:+0100
TZNAME:CET
END:STANDARD
BEGIN:DAYLIGHT
DTSTART:20170326T020000
TZOFFSETFROM:+0100
TZOFFSETTO:+0200
TZNAME:CEST
END:DAYLIGHT
END:VTIMEZONE
BEGIN:VEVENT
UID:calendar.33734.field_inicio.0@emigracion.xunta.gal
DTSTAMP:20260419T150841Z
CREATED:20170131T114156Z
DESCRIPTION:Presentación da novela 'La jueza y el tendero'\, en Madrid\n\nh
 ttps://emigracion.xunta.gal/actualidade/axenda/presentacion-novela-la-juez
 a-y-tendero-madrid
DTSTART;VALUE=DATE:20170209
DTEND;VALUE=DATE:20170210
LAST-MODIFIED:20190718T110030Z
SUMMARY:Presentación da novela 'La jueza y el tendero'\, en Madrid
URL;TYPE=URI:https://emigracion.xunta.gal/actualidade/axenda/presentacion-n
 ovela-la-jueza-y-tendero-madrid
END:VEVENT
END:VCALENDAR
