BEGIN:VCALENDAR
VERSION:2.0
PRODID:-//Date iCal//NONSGML kigkonsult.se iCalcreator 2.20.2//
METHOD:PUBLISH
X-WR-CALNAME;VALUE=TEXT:Axenda de Galica Aberta
BEGIN:VTIMEZONE
TZID:Europe/Madrid
BEGIN:STANDARD
DTSTART:20161030T030000
TZOFFSETFROM:+0200
TZOFFSETTO:+0100
TZNAME:CET
END:STANDARD
BEGIN:DAYLIGHT
DTSTART:20170326T020000
TZOFFSETFROM:+0100
TZOFFSETTO:+0200
TZNAME:CEST
END:DAYLIGHT
END:VTIMEZONE
BEGIN:VEVENT
UID:calendar.33700.field_inicio.0@emigracion.xunta.gal
DTSTAMP:20260419T153248Z
CREATED:20170126T073739Z
DESCRIPTION:Exposición 'Nós tamén fomos emigrantes'\, en Santiago de Compos
 tela\n\nhttps://emigracion.xunta.gal/actualidade/axenda/exposicion-nos-tam
 en-fomos-emigrantes-santiago-compostela
DTSTART;VALUE=DATE:20170109
DTEND;VALUE=DATE:20170110
LAST-MODIFIED:20190718T110030Z
RRULE:FREQ=DAILY;COUNT=2;INTERVAL=18;WKST=MO
SUMMARY:Exposición 'Nós tamén fomos emigrantes'\, en Santiago de Compostela
URL;TYPE=URI:https://emigracion.xunta.gal/actualidade/axenda/exposicion-nos
 -tamen-fomos-emigrantes-santiago-compostela
END:VEVENT
END:VCALENDAR
