BEGIN:VCALENDAR
VERSION:2.0
PRODID:-//Date iCal//NONSGML kigkonsult.se iCalcreator 2.20.2//
METHOD:PUBLISH
X-WR-CALNAME;VALUE=TEXT:Axenda de Galica Aberta
BEGIN:VTIMEZONE
TZID:Europe/Madrid
BEGIN:STANDARD
DTSTART:20161030T030000
TZOFFSETFROM:+0200
TZOFFSETTO:+0100
TZNAME:CET
END:STANDARD
BEGIN:DAYLIGHT
DTSTART:20170326T020000
TZOFFSETFROM:+0100
TZOFFSETTO:+0200
TZNAME:CEST
END:DAYLIGHT
END:VTIMEZONE
BEGIN:VEVENT
UID:calendar.33442.field_inicio.0@emigracion.xunta.gal
DTSTAMP:20260422T054947Z
CREATED:20170109T104029Z
DESCRIPTION:Saída de campo do Centro Galego de Xubilados e Pensionados da R
 epública Arxentina\n\nhttps://emigracion.xunta.gal/actualidade/axenda/said
 a-campo-centro-galego-xubilados-e-pensionados-republica-arxentina
DTSTART;VALUE=DATE:20170115
DTEND;VALUE=DATE:20170116
LAST-MODIFIED:20190718T105959Z
SUMMARY:Saída de campo do Centro Galego de Xubilados e Pensionados da Repúb
 lica Arxentina
URL;TYPE=URI:https://emigracion.xunta.gal/actualidade/axenda/saida-campo-ce
 ntro-galego-xubilados-e-pensionados-republica-arxentina
END:VEVENT
END:VCALENDAR
