BEGIN:VCALENDAR
VERSION:2.0
PRODID:-//Date iCal//NONSGML kigkonsult.se iCalcreator 2.20.2//
METHOD:PUBLISH
X-WR-CALNAME;VALUE=TEXT:Axenda de Galica Aberta
BEGIN:VTIMEZONE
TZID:Europe/Madrid
BEGIN:STANDARD
DTSTART:20161030T030000
TZOFFSETFROM:+0200
TZOFFSETTO:+0100
TZNAME:CET
END:STANDARD
BEGIN:DAYLIGHT
DTSTART:20170326T020000
TZOFFSETFROM:+0100
TZOFFSETTO:+0200
TZNAME:CEST
END:DAYLIGHT
END:VTIMEZONE
BEGIN:VEVENT
UID:calendar.33403.field_inicio.0@emigracion.xunta.gal
DTSTAMP:20260421T085428Z
CREATED:20170104T090123Z
DESCRIPTION:Fundraiser - Evento benéfico a prol de Lucca Ricardo DaSilva\, 
 no Club España de Newark\n\nhttps://emigracion.xunta.gal/actualidade/axend
 a/fundraiser-evento-benefico-prol-lucca-ricardo-dasilva-no-club-espana-new
 ark
DTSTART;VALUE=DATE:20170115
DTEND;VALUE=DATE:20170116
LAST-MODIFIED:20190718T105959Z
SUMMARY:Fundraiser - Evento benéfico a prol de Lucca Ricardo DaSilva\, no C
 lub España de Newark
URL;TYPE=URI:https://emigracion.xunta.gal/actualidade/axenda/fundraiser-eve
 nto-benefico-prol-lucca-ricardo-dasilva-no-club-espana-newark
END:VEVENT
END:VCALENDAR
