BEGIN:VCALENDAR
VERSION:2.0
PRODID:-//Date iCal//NONSGML kigkonsult.se iCalcreator 2.20.2//
METHOD:PUBLISH
X-WR-CALNAME;VALUE=TEXT:Axenda de Galica Aberta
BEGIN:VTIMEZONE
TZID:Europe/Madrid
BEGIN:STANDARD
DTSTART:20161030T030000
TZOFFSETFROM:+0200
TZOFFSETTO:+0100
TZNAME:CET
END:STANDARD
BEGIN:DAYLIGHT
DTSTART:20170326T020000
TZOFFSETFROM:+0100
TZOFFSETTO:+0200
TZNAME:CEST
END:DAYLIGHT
END:VTIMEZONE
BEGIN:VEVENT
UID:calendar.33005.field_inicio.0@emigracion.xunta.gal
DTSTAMP:20260423T210135Z
CREATED:20161121T135437Z
DESCRIPTION:Xornada informativa na Asociación de Emigrantes Retornados Ulla
 -Umia\n\nhttps://emigracion.xunta.gal/actualidade/axenda/xornada-informati
 va-na-asociacion-emigrantes-retornados-ulla-umia
DTSTART;VALUE=DATE:20161124
DTEND;VALUE=DATE:20161125
LAST-MODIFIED:20190718T105925Z
SUMMARY:Xornada informativa na Asociación de Emigrantes Retornados Ulla-Umi
 a
URL;TYPE=URI:https://emigracion.xunta.gal/actualidade/axenda/xornada-inform
 ativa-na-asociacion-emigrantes-retornados-ulla-umia
END:VEVENT
END:VCALENDAR
