BEGIN:VCALENDAR
VERSION:2.0
PRODID:-//Date iCal//NONSGML kigkonsult.se iCalcreator 2.20.2//
METHOD:PUBLISH
X-WR-CALNAME;VALUE=TEXT:Axenda de Galica Aberta
BEGIN:VTIMEZONE
TZID:Europe/Madrid
BEGIN:STANDARD
DTSTART:20161030T030000
TZOFFSETFROM:+0200
TZOFFSETTO:+0100
TZNAME:CET
END:STANDARD
BEGIN:DAYLIGHT
DTSTART:20160327T020000
TZOFFSETFROM:+0100
TZOFFSETTO:+0200
RDATE:20170326T020000
TZNAME:CEST
END:DAYLIGHT
END:VTIMEZONE
BEGIN:VEVENT
UID:calendar.32604.field_inicio.0@emigracion.xunta.gal
DTSTAMP:20260423T182812Z
CREATED:20160902T104424Z
DESCRIPTION:Xornada informativa: 'Traballar en finanzas no Reino Unido'\n\n
 https://emigracion.xunta.gal/actualidade/axenda/xornada-informativa-trabal
 lar-finanzas-no-reino-unido
DTSTART;VALUE=DATE:20160914
DTEND;VALUE=DATE:20160915
LAST-MODIFIED:20190718T105742Z
SUMMARY:Xornada informativa: 'Traballar en finanzas no Reino Unido'
URL;TYPE=URI:https://emigracion.xunta.gal/actualidade/axenda/xornada-inform
 ativa-traballar-finanzas-no-reino-unido
END:VEVENT
END:VCALENDAR
