BEGIN:VCALENDAR
VERSION:2.0
PRODID:-//Date iCal//NONSGML kigkonsult.se iCalcreator 2.20.2//
METHOD:PUBLISH
X-WR-CALNAME;VALUE=TEXT:Axenda de Galica Aberta
BEGIN:VTIMEZONE
TZID:Europe/Madrid
BEGIN:STANDARD
DTSTART:20161030T030000
TZOFFSETFROM:+0200
TZOFFSETTO:+0100
TZNAME:CET
END:STANDARD
BEGIN:DAYLIGHT
DTSTART:20160327T020000
TZOFFSETFROM:+0100
TZOFFSETTO:+0200
TZNAME:CEST
END:DAYLIGHT
END:VTIMEZONE
BEGIN:VEVENT
UID:calendar.31959.field_inicio.0@emigracion.xunta.gal
DTSTAMP:20260419T153233Z
CREATED:20160520T123855Z
DESCRIPTION:Taller 'Ferramentas para a busca de emprego en Alemaña'\, en Dü
 sseldorf\n\nhttps://emigracion.xunta.gal/actualidade/axenda/taller-ferrame
 ntas-busca-emprego-alemana-dusseldorf
DTSTART;VALUE=DATE:20160618
DTEND;VALUE=DATE:20160619
LAST-MODIFIED:20190718T105627Z
SUMMARY:Taller 'Ferramentas para a busca de emprego en Alemaña'\, en Düssel
 dorf
URL;TYPE=URI:https://emigracion.xunta.gal/actualidade/axenda/taller-ferrame
 ntas-busca-emprego-alemana-dusseldorf
END:VEVENT
END:VCALENDAR
