BEGIN:VCALENDAR
VERSION:2.0
PRODID:-//Date iCal//NONSGML kigkonsult.se iCalcreator 2.20.2//
METHOD:PUBLISH
X-WR-CALNAME;VALUE=TEXT:Axenda de Galica Aberta
BEGIN:VTIMEZONE
TZID:Europe/Madrid
BEGIN:STANDARD
DTSTART:20151025T030000
TZOFFSETFROM:+0200
TZOFFSETTO:+0100
RDATE:20161030T030000
TZNAME:CET
END:STANDARD
BEGIN:DAYLIGHT
DTSTART:20160327T020000
TZOFFSETFROM:+0100
TZOFFSETTO:+0200
TZNAME:CEST
END:DAYLIGHT
END:VTIMEZONE
BEGIN:VEVENT
UID:calendar.31940.field_inicio.0@emigracion.xunta.gal
DTSTAMP:20260419T153232Z
CREATED:20160518T123134Z
DESCRIPTION:Ciclo de conferencias 'Obesidad: la pandemia del siglo XXI'\, n
 o Centro Gallego de Santander\n\nhttps://emigracion.xunta.gal/actualidade/
 axenda/ciclo-conferencias-obesidad-la-pandemia-del-siglo-xxi-no-centro-gal
 lego-santander
DTSTART;VALUE=DATE:20160525
DTEND;VALUE=DATE:20160526
LAST-MODIFIED:20190718T111249Z
RRULE:FREQ=DAILY;COUNT=2;INTERVAL=14;WKST=MO
SUMMARY:Ciclo de conferencias 'Obesidad: la pandemia del siglo XXI'\, no Ce
 ntro Gallego de Santander
URL;TYPE=URI:https://emigracion.xunta.gal/actualidade/axenda/ciclo-conferen
 cias-obesidad-la-pandemia-del-siglo-xxi-no-centro-gallego-santander
END:VEVENT
END:VCALENDAR
