BEGIN:VCALENDAR
VERSION:2.0
PRODID:-//Date iCal//NONSGML kigkonsult.se iCalcreator 2.20.2//
METHOD:PUBLISH
X-WR-CALNAME;VALUE=TEXT:Axenda de Galica Aberta
BEGIN:VTIMEZONE
TZID:Europe/Madrid
BEGIN:STANDARD
DTSTART:20151025T030000
TZOFFSETFROM:+0200
TZOFFSETTO:+0100
TZNAME:CET
END:STANDARD
BEGIN:DAYLIGHT
DTSTART:20160327T020000
TZOFFSETFROM:+0100
TZOFFSETTO:+0200
TZNAME:CEST
END:DAYLIGHT
END:VTIMEZONE
BEGIN:VEVENT
UID:calendar.31054.field_inicio.0@emigracion.xunta.gal
DTSTAMP:20260423T182808Z
CREATED:20160217T090947Z
DESCRIPTION:Sesión informativa sobre a Formación Profesional en Alemaña\, e
 n Friburgo\n\nhttps://emigracion.xunta.gal/actualidade/axenda/sesion-infor
 mativa-sobre-formacion-profesional-alemana-friburgo
DTSTART;VALUE=DATE:20160309
DTEND;VALUE=DATE:20160310
LAST-MODIFIED:20190718T105434Z
SUMMARY:Sesión informativa sobre a Formación Profesional en Alemaña\, en Fr
 iburgo
URL;TYPE=URI:https://emigracion.xunta.gal/actualidade/axenda/sesion-informa
 tiva-sobre-formacion-profesional-alemana-friburgo
END:VEVENT
END:VCALENDAR
