BEGIN:VCALENDAR
VERSION:2.0
PRODID:-//Date iCal//NONSGML kigkonsult.se iCalcreator 2.20.2//
METHOD:PUBLISH
X-WR-CALNAME;VALUE=TEXT:Axenda de Galica Aberta
BEGIN:VTIMEZONE
TZID:Europe/Madrid
BEGIN:STANDARD
DTSTART:20151025T030000
TZOFFSETFROM:+0200
TZOFFSETTO:+0100
TZNAME:CET
END:STANDARD
BEGIN:DAYLIGHT
DTSTART:20160327T020000
TZOFFSETFROM:+0100
TZOFFSETTO:+0200
TZNAME:CEST
END:DAYLIGHT
END:VTIMEZONE
BEGIN:VEVENT
UID:calendar.30076.field_inicio.0@emigracion.xunta.gal
DTSTAMP:20260421T122426Z
CREATED:20151201T115100Z
DESCRIPTION:Colonia de verán 2015-2016 do Centro Galicia de Bos Aires\n\nht
 tps://emigracion.xunta.gal/actualidade/axenda/colonia-veran-2015-2016-cent
 ro-galicia-bos-aires
DTSTART;VALUE=DATE:20151214
DTEND;VALUE=DATE:20151215
LAST-MODIFIED:20190718T105309Z
SUMMARY:Colonia de verán 2015-2016 do Centro Galicia de Bos Aires
URL;TYPE=URI:https://emigracion.xunta.gal/actualidade/axenda/colonia-veran-
 2015-2016-centro-galicia-bos-aires
END:VEVENT
END:VCALENDAR
