BEGIN:VCALENDAR
VERSION:2.0
PRODID:-//Date iCal//NONSGML kigkonsult.se iCalcreator 2.20.2//
METHOD:PUBLISH
X-WR-CALNAME;VALUE=TEXT:Axenda de Galica Aberta
BEGIN:VTIMEZONE
TZID:Europe/Madrid
BEGIN:STANDARD
DTSTART:20151025T030000
TZOFFSETFROM:+0200
TZOFFSETTO:+0100
TZNAME:CET
END:STANDARD
BEGIN:DAYLIGHT
DTSTART:20160327T020000
TZOFFSETFROM:+0100
TZOFFSETTO:+0200
TZNAME:CEST
END:DAYLIGHT
END:VTIMEZONE
BEGIN:VEVENT
UID:calendar.29691.field_inicio.0@emigracion.xunta.gal
DTSTAMP:20260421T164701Z
CREATED:20151112T100034Z
DESCRIPTION:Xornada informativa 'Traballar no Reino Unido - Sector Hostalar
 ía'\, en Londres\n\nhttps://emigracion.xunta.gal/actualidade/axenda/xornad
 a-informativa-traballar-no-reino-unido-sector-hostalaria-londres
DTSTART;VALUE=DATE:20151124
DTEND;VALUE=DATE:20151125
LAST-MODIFIED:20190718T105226Z
SUMMARY:Xornada informativa 'Traballar no Reino Unido - Sector Hostalaría'\
 , en Londres
URL;TYPE=URI:https://emigracion.xunta.gal/actualidade/axenda/xornada-inform
 ativa-traballar-no-reino-unido-sector-hostalaria-londres
END:VEVENT
END:VCALENDAR
