BEGIN:VCALENDAR
VERSION:2.0
PRODID:-//Date iCal//NONSGML kigkonsult.se iCalcreator 2.20.2//
METHOD:PUBLISH
X-WR-CALNAME;VALUE=TEXT:Axenda de Galica Aberta
BEGIN:VTIMEZONE
TZID:Europe/Madrid
BEGIN:STANDARD
DTSTART:20151025T030000
TZOFFSETFROM:+0200
TZOFFSETTO:+0100
TZNAME:CET
END:STANDARD
BEGIN:DAYLIGHT
DTSTART:20160327T020000
TZOFFSETFROM:+0100
TZOFFSETTO:+0200
TZNAME:CEST
END:DAYLIGHT
END:VTIMEZONE
BEGIN:VEVENT
UID:calendar.29340.field_inicio.0@emigracion.xunta.gal
DTSTAMP:20260423T103956Z
CREATED:20151019T105732Z
DESCRIPTION:94º aniversario da Federación de Asociaciones Gallegas de la Re
 pública Argentina\n\nhttps://emigracion.xunta.gal/actualidade/axenda/94o-a
 niversario-federacion-asociaciones-gallegas-la-republica-argentina
DTSTART;VALUE=DATE:20151101
DTEND;VALUE=DATE:20151102
LAST-MODIFIED:20190718T105217Z
SUMMARY:94º aniversario da Federación de Asociaciones Gallegas de la Repúbl
 ica Argentina
URL;TYPE=URI:https://emigracion.xunta.gal/actualidade/axenda/94o-aniversari
 o-federacion-asociaciones-gallegas-la-republica-argentina
END:VEVENT
END:VCALENDAR
