BEGIN:VCALENDAR
VERSION:2.0
PRODID:-//Date iCal//NONSGML kigkonsult.se iCalcreator 2.20.2//
METHOD:PUBLISH
X-WR-CALNAME;VALUE=TEXT:Axenda de Galica Aberta
BEGIN:VTIMEZONE
TZID:Europe/Madrid
BEGIN:STANDARD
DTSTART:20151025T030000
TZOFFSETFROM:+0200
TZOFFSETTO:+0100
TZNAME:CET
END:STANDARD
BEGIN:DAYLIGHT
DTSTART:20160327T020000
TZOFFSETFROM:+0100
TZOFFSETTO:+0200
TZNAME:CEST
END:DAYLIGHT
END:VTIMEZONE
BEGIN:VEVENT
UID:calendar.29303.field_inicio.0@emigracion.xunta.gal
DTSTAMP:20260422T025503Z
CREATED:20151016T090449Z
DESCRIPTION:Xornadas informativas no ámbito da Seguridade Social Española\,
  en Suíza \n\nhttps://emigracion.xunta.gal/actualidade/axenda/xornadas-inf
 ormativas-no-ambito-seguridade-social-espanola-suiza
DTSTART;VALUE=DATE:20151105
DTEND;VALUE=DATE:20151107
LAST-MODIFIED:20190718T105217Z
SUMMARY:Xornadas informativas no ámbito da Seguridade Social Española\, en 
 Suíza
URL;TYPE=URI:https://emigracion.xunta.gal/actualidade/axenda/xornadas-infor
 mativas-no-ambito-seguridade-social-espanola-suiza
END:VEVENT
END:VCALENDAR
