BEGIN:VCALENDAR
VERSION:2.0
PRODID:-//Date iCal//NONSGML kigkonsult.se iCalcreator 2.20.2//
METHOD:PUBLISH
X-WR-CALNAME;VALUE=TEXT:Axenda de Galica Aberta
BEGIN:VTIMEZONE
TZID:Europe/Madrid
BEGIN:STANDARD
DTSTART:20151025T030000
TZOFFSETFROM:+0200
TZOFFSETTO:+0100
TZNAME:CET
END:STANDARD
BEGIN:DAYLIGHT
DTSTART:20150329T020000
TZOFFSETFROM:+0100
TZOFFSETTO:+0200
RDATE:20160327T020000
TZNAME:CEST
END:DAYLIGHT
END:VTIMEZONE
BEGIN:VEVENT
UID:calendar.28224.field_inicio.0@emigracion.xunta.gal
DTSTAMP:20260421T174003Z
CREATED:20150831T112914Z
DESCRIPTION:Exposición de pintura 'Encontro de Artistas do obradoiro de Mª 
 Marta Morelli'\, no Centro Galicia de Bos Aires\n\nhttps://emigracion.xunt
 a.gal/actualidade/axenda/exposicion-pintura-encontro-artistas-obradoiro-ma
 -marta-morelli-no-centro-galicia
DTSTART;VALUE=DATE:20150901
DTEND;VALUE=DATE:20150902
LAST-MODIFIED:20190718T105009Z
SUMMARY:Exposición de pintura 'Encontro de Artistas do obradoiro de Mª Mart
 a Morelli'\, no Centro Galicia de Bos Aires
URL;TYPE=URI:https://emigracion.xunta.gal/actualidade/axenda/exposicion-pin
 tura-encontro-artistas-obradoiro-ma-marta-morelli-no-centro-galicia
END:VEVENT
END:VCALENDAR
