BEGIN:VCALENDAR
VERSION:2.0
PRODID:-//Date iCal//NONSGML kigkonsult.se iCalcreator 2.20.2//
METHOD:PUBLISH
X-WR-CALNAME;VALUE=TEXT:Axenda de Galica Aberta
BEGIN:VTIMEZONE
TZID:Europe/Madrid
BEGIN:STANDARD
DTSTART:20151025T030000
TZOFFSETFROM:+0200
TZOFFSETTO:+0100
TZNAME:CET
END:STANDARD
BEGIN:DAYLIGHT
DTSTART:20150329T020000
TZOFFSETFROM:+0100
TZOFFSETTO:+0200
RDATE:20160327T020000
TZNAME:CEST
END:DAYLIGHT
END:VTIMEZONE
BEGIN:VEVENT
UID:calendar.28097.field_inicio.0@emigracion.xunta.gal
DTSTAMP:20260420T150935Z
CREATED:20150827T105947Z
DESCRIPTION:89º aniversario e Festa da Virxe do Carme da Asociación Finiste
 rre en América\n\nhttps://emigracion.xunta.gal/actualidade/axenda/89o-aniv
 ersario-e-festa-virxe-carme-asociacion-finisterre-america
DTSTART;VALUE=DATE:20150920
DTEND;VALUE=DATE:20150921
LAST-MODIFIED:20190718T105009Z
SUMMARY:89º aniversario e Festa da Virxe do Carme da Asociación Finisterre 
 en América
URL;TYPE=URI:https://emigracion.xunta.gal/actualidade/axenda/89o-aniversari
 o-e-festa-virxe-carme-asociacion-finisterre-america
END:VEVENT
END:VCALENDAR
