BEGIN:VCALENDAR
VERSION:2.0
PRODID:-//Date iCal//NONSGML kigkonsult.se iCalcreator 2.20.2//
METHOD:PUBLISH
X-WR-CALNAME;VALUE=TEXT:Axenda de Galica Aberta
BEGIN:VTIMEZONE
TZID:Europe/Madrid
BEGIN:STANDARD
DTSTART:20151025T030000
TZOFFSETFROM:+0200
TZOFFSETTO:+0100
TZNAME:CET
END:STANDARD
BEGIN:DAYLIGHT
DTSTART:20150329T020000
TZOFFSETFROM:+0100
TZOFFSETTO:+0200
RDATE:20160327T020000
TZNAME:CEST
END:DAYLIGHT
END:VTIMEZONE
BEGIN:VEVENT
UID:calendar.26219.field_inicio.0@emigracion.xunta.gal
DTSTAMP:20260421T122454Z
CREATED:20150527T122057Z
DESCRIPTION:XVI Concurso literario Julio Camba de relato curto do Centro Ga
 llego de Santander\n\nhttps://emigracion.xunta.gal/actualidade/axenda/xvi-
 concurso-literario-julio-camba-relato-curto-centro-gallego-santander
DTSTART;VALUE=DATE:20150930
DTEND;VALUE=DATE:20151001
LAST-MODIFIED:20190718T105647Z
SUMMARY:XVI Concurso literario Julio Camba de relato curto do Centro Galleg
 o de Santander
URL;TYPE=URI:https://emigracion.xunta.gal/actualidade/axenda/xvi-concurso-l
 iterario-julio-camba-relato-curto-centro-gallego-santander
END:VEVENT
END:VCALENDAR
