BEGIN:VCALENDAR
VERSION:2.0
PRODID:-//Date iCal//NONSGML kigkonsult.se iCalcreator 2.20.2//
METHOD:PUBLISH
X-WR-CALNAME;VALUE=TEXT:Axenda de Galica Aberta
BEGIN:VTIMEZONE
TZID:Europe/Madrid
BEGIN:STANDARD
DTSTART:20141026T030000
TZOFFSETFROM:+0200
TZOFFSETTO:+0100
TZNAME:CET
END:STANDARD
BEGIN:DAYLIGHT
DTSTART:20150329T020000
TZOFFSETFROM:+0100
TZOFFSETTO:+0200
TZNAME:CEST
END:DAYLIGHT
END:VTIMEZONE
BEGIN:VEVENT
UID:calendar.25294.field_inicio.0@emigracion.xunta.gal
DTSTAMP:20260421T092852Z
CREATED:20150120T125906Z
DESCRIPTION:Presentación de 'Valente vital (Ginebra\, Saboya\, París)'\, na
  Nosa Galiza de Xenebra\n\nhttps://emigracion.xunta.gal/actualidade/axenda
 /presentacion-valente-vital-ginebra-saboya-paris-na-nosa-galiza-xenebra
DTSTART;VALUE=DATE:20150123
DTEND;VALUE=DATE:20150124
LAST-MODIFIED:20190718T104410Z
SUMMARY:Presentación de 'Valente vital (Ginebra\, Saboya\, París)'\, na Nos
 a Galiza de Xenebra
URL;TYPE=URI:https://emigracion.xunta.gal/actualidade/axenda/presentacion-v
 alente-vital-ginebra-saboya-paris-na-nosa-galiza-xenebra
END:VEVENT
END:VCALENDAR
