BEGIN:VCALENDAR
VERSION:2.0
PRODID:-//Date iCal//NONSGML kigkonsult.se iCalcreator 2.20.2//
METHOD:PUBLISH
X-WR-CALNAME;VALUE=TEXT:Axenda de Galica Aberta
BEGIN:VTIMEZONE
TZID:Europe/Madrid
BEGIN:STANDARD
DTSTART:20141026T030000
TZOFFSETFROM:+0200
TZOFFSETTO:+0100
TZNAME:CET
END:STANDARD
BEGIN:DAYLIGHT
DTSTART:20150329T020000
TZOFFSETFROM:+0100
TZOFFSETTO:+0200
TZNAME:CEST
END:DAYLIGHT
END:VTIMEZONE
BEGIN:VEVENT
UID:calendar.25234.field_inicio.0@emigracion.xunta.gal
DTSTAMP:20260421T092851Z
CREATED:20150113T085957Z
DESCRIPTION:Mesa redonda 'Primeras páginas de la historia de Filipinas'\, n
 a Casa de Galicia en Madrid\n\nhttps://emigracion.xunta.gal/actualidade/ax
 enda/mesa-redonda-primeras-paginas-la-historia-filipinas-na-casa-galicia-m
 adrid
DTSTART;VALUE=DATE:20150114
DTEND;VALUE=DATE:20150115
LAST-MODIFIED:20190718T104357Z
SUMMARY:Mesa redonda 'Primeras páginas de la historia de Filipinas'\, na Ca
 sa de Galicia en Madrid
URL;TYPE=URI:https://emigracion.xunta.gal/actualidade/axenda/mesa-redonda-p
 rimeras-paginas-la-historia-filipinas-na-casa-galicia-madrid
END:VEVENT
END:VCALENDAR
