BEGIN:VCALENDAR
VERSION:2.0
PRODID:-//Date iCal//NONSGML kigkonsult.se iCalcreator 2.20.2//
METHOD:PUBLISH
X-WR-CALNAME;VALUE=TEXT:Axenda de Galica Aberta
BEGIN:VTIMEZONE
TZID:Europe/Madrid
BEGIN:STANDARD
DTSTART:20141026T030000
TZOFFSETFROM:+0200
TZOFFSETTO:+0100
TZNAME:CET
END:STANDARD
BEGIN:DAYLIGHT
DTSTART:20140330T020000
TZOFFSETFROM:+0100
TZOFFSETTO:+0200
RDATE:20150329T020000
TZNAME:CEST
END:DAYLIGHT
END:VTIMEZONE
BEGIN:VEVENT
UID:calendar.23942.field_inicio.0@emigracion.xunta.gal
DTSTAMP:20260420T095143Z
CREATED:20140925T183246Z
DESCRIPTION:Curso de iniciación á lingua galega 2014-2015 da Universidade d
 e Deusto\n\nhttps://emigracion.xunta.gal/actualidade/axenda/curso-iniciaci
 on-lingua-galega-2014-2015-universidade-deusto
DTSTART;VALUE=DATE:20141024
DTEND;VALUE=DATE:20141025
LAST-MODIFIED:20190718T103340Z
SUMMARY:Curso de iniciación á lingua galega 2014-2015 da Universidade de De
 usto
URL;TYPE=URI:https://emigracion.xunta.gal/actualidade/axenda/curso-iniciaci
 on-lingua-galega-2014-2015-universidade-deusto
END:VEVENT
END:VCALENDAR
