BEGIN:VCALENDAR
VERSION:2.0
PRODID:-//Date iCal//NONSGML kigkonsult.se iCalcreator 2.20.2//
METHOD:PUBLISH
X-WR-CALNAME;VALUE=TEXT:Axenda de Galica Aberta
BEGIN:VTIMEZONE
TZID:Europe/Madrid
BEGIN:STANDARD
DTSTART:20141026T030000
TZOFFSETFROM:+0200
TZOFFSETTO:+0100
TZNAME:CET
END:STANDARD
BEGIN:DAYLIGHT
DTSTART:20140330T020000
TZOFFSETFROM:+0100
TZOFFSETTO:+0200
RDATE:20150329T020000
TZNAME:CEST
END:DAYLIGHT
END:VTIMEZONE
BEGIN:VEVENT
UID:calendar.23813.field_inicio.0@emigracion.xunta.gal
DTSTAMP:20260420T093219Z
CREATED:20140924T090752Z
DESCRIPTION:'Destino Sur'\, recital de guitarra e voz de Emilio Rúa\, na Ca
 sa de Galicia en Madrid\n\nhttps://emigracion.xunta.gal/actualidade/axenda
 /destino-sur-recital-guitarra-e-voz-emilio-rua-na-casa-galicia-madrid
DTSTART;VALUE=DATE:20140925
DTEND;VALUE=DATE:20140926
LAST-MODIFIED:20190718T103332Z
SUMMARY:'Destino Sur'\, recital de guitarra e voz de Emilio Rúa\, na Casa d
 e Galicia en Madrid
URL;TYPE=URI:https://emigracion.xunta.gal/actualidade/axenda/destino-sur-re
 cital-guitarra-e-voz-emilio-rua-na-casa-galicia-madrid
END:VEVENT
END:VCALENDAR
