BEGIN:VCALENDAR
VERSION:2.0
PRODID:-//Date iCal//NONSGML kigkonsult.se iCalcreator 2.20.2//
METHOD:PUBLISH
X-WR-CALNAME;VALUE=TEXT:Axenda de Galica Aberta
BEGIN:VTIMEZONE
TZID:Europe/Madrid
BEGIN:STANDARD
DTSTART:20141026T030000
TZOFFSETFROM:+0200
TZOFFSETTO:+0100
TZNAME:CET
END:STANDARD
BEGIN:DAYLIGHT
DTSTART:20140330T020000
TZOFFSETFROM:+0100
TZOFFSETTO:+0200
RDATE:20150329T020000
TZNAME:CEST
END:DAYLIGHT
END:VTIMEZONE
BEGIN:VEVENT
UID:calendar.23648.field_inicio.0@emigracion.xunta.gal
DTSTAMP:20260422T054947Z
CREATED:20140827T080059Z
DESCRIPTION:XXVIII Certame de poesía 'Rosalía de Castro' e XI Certame de na
 rrativa 'Rosa Reboredo' da A.C.G. Rosalía de Castro de Cornellá\n\nhttps:/
 /emigracion.xunta.gal/actualidade/axenda/xxviii-certame-poesia-rosalia-cas
 tro-e-xi-certame-narrativa-rosa-reboredo-acg
DTSTART;VALUE=DATE:20141014
DTEND;VALUE=DATE:20141015
LAST-MODIFIED:20190718T104156Z
SUMMARY:XXVIII Certame de poesía 'Rosalía de Castro' e XI Certame de narrat
 iva 'Rosa Reboredo' da A.C.G. Rosalía de Castro de Cornellá
URL;TYPE=URI:https://emigracion.xunta.gal/actualidade/axenda/xxviii-certame
 -poesia-rosalia-castro-e-xi-certame-narrativa-rosa-reboredo-acg
END:VEVENT
END:VCALENDAR
