BEGIN:VCALENDAR
VERSION:2.0
PRODID:-//Date iCal//NONSGML kigkonsult.se iCalcreator 2.20.2//
METHOD:PUBLISH
X-WR-CALNAME;VALUE=TEXT:Axenda de Galica Aberta
BEGIN:VTIMEZONE
TZID:Europe/Madrid
BEGIN:STANDARD
DTSTART:20141026T030000
TZOFFSETFROM:+0200
TZOFFSETTO:+0100
TZNAME:CET
END:STANDARD
BEGIN:DAYLIGHT
DTSTART:20140330T020000
TZOFFSETFROM:+0100
TZOFFSETTO:+0200
TZNAME:CEST
END:DAYLIGHT
END:VTIMEZONE
BEGIN:VEVENT
UID:calendar.23058.field_inicio.0@emigracion.xunta.gal
DTSTAMP:20260421T165426Z
CREATED:20140612T112303Z
DESCRIPTION:Actuación da Coral Polifónica 'Follas Novas' da Coruña\, na Cas
 a de Galicia en Madrid\n\nhttps://emigracion.xunta.gal/actualidade/axenda/
 actuacion-coral-polifonica-follas-novas-coruna-na-casa-galicia-madrid
DTSTART;VALUE=DATE:20140623
DTEND;VALUE=DATE:20140624
LAST-MODIFIED:20190718T103225Z
SUMMARY:Actuación da Coral Polifónica 'Follas Novas' da Coruña\, na Casa de
  Galicia en Madrid
URL;TYPE=URI:https://emigracion.xunta.gal/actualidade/axenda/actuacion-cora
 l-polifonica-follas-novas-coruna-na-casa-galicia-madrid
END:VEVENT
END:VCALENDAR
