BEGIN:VCALENDAR
VERSION:2.0
PRODID:-//Date iCal//NONSGML kigkonsult.se iCalcreator 2.20.2//
METHOD:PUBLISH
X-WR-CALNAME;VALUE=TEXT:Axenda de Galica Aberta
BEGIN:VTIMEZONE
TZID:Europe/Madrid
BEGIN:STANDARD
DTSTART:20131027T030000
TZOFFSETFROM:+0200
TZOFFSETTO:+0100
RDATE:20141026T030000
TZNAME:CET
END:STANDARD
BEGIN:DAYLIGHT
DTSTART:20140330T020000
TZOFFSETFROM:+0100
TZOFFSETTO:+0200
TZNAME:CEST
END:DAYLIGHT
END:VTIMEZONE
BEGIN:VEVENT
UID:calendar.22657.field_inicio.0@emigracion.xunta.gal
DTSTAMP:20260421T064709Z
CREATED:20140428T193713Z
DESCRIPTION:Presentación do libro 'Pazos gallegos. Materiales para su estud
 io'\, de Miguel Durán-Loriga y Salgado\n\nhttps://emigracion.xunta.gal/act
 ualidade/axenda/presentacion-libro-pazos-gallegos-materiales-su-estudio-mi
 guel-duran-loriga-y
DTSTART;VALUE=DATE:20140429
DTEND;VALUE=DATE:20140430
LAST-MODIFIED:20190718T103204Z
SUMMARY:Presentación do libro 'Pazos gallegos. Materiales para su estudio'\
 , de Miguel Durán-Loriga y Salgado
URL;TYPE=URI:https://emigracion.xunta.gal/actualidade/axenda/presentacion-l
 ibro-pazos-gallegos-materiales-su-estudio-miguel-duran-loriga-y
END:VEVENT
END:VCALENDAR
