BEGIN:VCALENDAR
VERSION:2.0
PRODID:-//Date iCal//NONSGML kigkonsult.se iCalcreator 2.20.2//
METHOD:PUBLISH
X-WR-CALNAME;VALUE=TEXT:Axenda de Galica Aberta
BEGIN:VTIMEZONE
TZID:Europe/Madrid
BEGIN:STANDARD
DTSTART:20131027T030000
TZOFFSETFROM:+0200
TZOFFSETTO:+0100
RDATE:20141026T030000
TZNAME:CET
END:STANDARD
BEGIN:DAYLIGHT
DTSTART:20140330T020000
TZOFFSETFROM:+0100
TZOFFSETTO:+0200
TZNAME:CEST
END:DAYLIGHT
END:VTIMEZONE
BEGIN:VEVENT
UID:calendar.22387.field_inicio.0@emigracion.xunta.gal
DTSTAMP:20260421T165429Z
CREATED:20140318T075723Z
DESCRIPTION:IV Certame literario Día das Letras Galegas en Frankfürt 2014\n
 \nhttps://emigracion.xunta.gal/actualidade/axenda/iv-certame-literario-dia
 -das-letras-galegas-frankfurt-2014
DTSTART;VALUE=DATE:20140510
DTEND;VALUE=DATE:20140511
LAST-MODIFIED:20190718T104200Z
SUMMARY:IV Certame literario Día das Letras Galegas en Frankfürt 2014
URL;TYPE=URI:https://emigracion.xunta.gal/actualidade/axenda/iv-certame-lit
 erario-dia-das-letras-galegas-frankfurt-2014
END:VEVENT
END:VCALENDAR
