BEGIN:VCALENDAR
VERSION:2.0
PRODID:-//Date iCal//NONSGML kigkonsult.se iCalcreator 2.20.2//
METHOD:PUBLISH
X-WR-CALNAME;VALUE=TEXT:Axenda de Galica Aberta
BEGIN:VTIMEZONE
TZID:Europe/Madrid
BEGIN:STANDARD
DTSTART:20131027T030000
TZOFFSETFROM:+0200
TZOFFSETTO:+0100
RDATE:20141026T030000
TZNAME:CET
END:STANDARD
BEGIN:DAYLIGHT
DTSTART:20140330T020000
TZOFFSETFROM:+0100
TZOFFSETTO:+0200
TZNAME:CEST
END:DAYLIGHT
END:VTIMEZONE
BEGIN:VEVENT
UID:calendar.22351.field_inicio.0@emigracion.xunta.gal
DTSTAMP:20260420T150932Z
CREATED:20140315T042952Z
DESCRIPTION:XIV Certame de Poesía 'Anduriña Voandeira' da Irmandade de Cent
 ros Galegos en Euskadi\n\nhttps://emigracion.xunta.gal/actualidade/axenda/
 xiv-certame-poesia-andurina-voandeira-irmandade-centros-galegos-euskadi
DTSTART;VALUE=DATE:20140525
DTEND;VALUE=DATE:20140526
LAST-MODIFIED:20190718T103910Z
SUMMARY:XIV Certame de Poesía 'Anduriña Voandeira' da Irmandade de Centros 
 Galegos en Euskadi
URL;TYPE=URI:https://emigracion.xunta.gal/actualidade/axenda/xiv-certame-po
 esia-andurina-voandeira-irmandade-centros-galegos-euskadi
END:VEVENT
END:VCALENDAR
