BEGIN:VCALENDAR
VERSION:2.0
PRODID:-//Date iCal//NONSGML kigkonsult.se iCalcreator 2.20.2//
METHOD:PUBLISH
X-WR-CALNAME;VALUE=TEXT:Axenda de Galica Aberta
BEGIN:VTIMEZONE
TZID:Europe/Madrid
BEGIN:STANDARD
DTSTART:20131027T030000
TZOFFSETFROM:+0200
TZOFFSETTO:+0100
TZNAME:CET
END:STANDARD
BEGIN:DAYLIGHT
DTSTART:20130331T020000
TZOFFSETFROM:+0100
TZOFFSETTO:+0200
TZNAME:CEST
END:DAYLIGHT
END:VTIMEZONE
BEGIN:VEVENT
UID:calendar.21268.field_inicio.0@emigracion.xunta.gal
DTSTAMP:20260420T095135Z
CREATED:20130612T102200Z
DESCRIPTION:Conferencia 'Instruír e traballar. As institucións galegas en A
 mérica e o seu legado en Galicia'\, en Bos Aires\n\nhttps://emigracion.xun
 ta.gal/actualidade/axenda/conferencia-instruir-e-traballar-institucions-ga
 legas-america-e-o-seu-legado
DTSTART;VALUE=DATE:20130614
DTEND;VALUE=DATE:20130615
LAST-MODIFIED:20190718T104308Z
SUMMARY:Conferencia 'Instruír e traballar. As institucións galegas en Améri
 ca e o seu legado en Galicia'\, en Bos Aires
URL;TYPE=URI:https://emigracion.xunta.gal/actualidade/axenda/conferencia-in
 struir-e-traballar-institucions-galegas-america-e-o-seu-legado
END:VEVENT
END:VCALENDAR
