BEGIN:VCALENDAR
VERSION:2.0
PRODID:-//Date iCal//NONSGML kigkonsult.se iCalcreator 2.20.2//
METHOD:PUBLISH
X-WR-CALNAME;VALUE=TEXT:Axenda de Galica Aberta
BEGIN:VTIMEZONE
TZID:Europe/Madrid
BEGIN:STANDARD
DTSTART:20131027T030000
TZOFFSETFROM:+0200
TZOFFSETTO:+0100
TZNAME:CET
END:STANDARD
BEGIN:DAYLIGHT
DTSTART:20130331T020000
TZOFFSETFROM:+0100
TZOFFSETTO:+0200
TZNAME:CEST
END:DAYLIGHT
END:VTIMEZONE
BEGIN:VEVENT
UID:calendar.21156.field_inicio.0@emigracion.xunta.gal
DTSTAMP:20260422T105113Z
CREATED:20130523T093127Z
DESCRIPTION:Festa galega en Cornellá - XXXIII Aniversario da A.C.G. Rosalía
  de Castro\n\nhttps://emigracion.xunta.gal/actualidade/axenda/festa-galega
 -cornella-xxxiii-aniversario-acg-rosalia-castro
DTSTART;VALUE=DATE:20130531
DTEND;VALUE=DATE:20130603
LAST-MODIFIED:20190718T110950Z
SUMMARY:Festa galega en Cornellá - XXXIII Aniversario da A.C.G. Rosalía de 
 Castro
URL;TYPE=URI:https://emigracion.xunta.gal/actualidade/axenda/festa-galega-c
 ornella-xxxiii-aniversario-acg-rosalia-castro
END:VEVENT
END:VCALENDAR
