BEGIN:VCALENDAR
VERSION:2.0
PRODID:-//Date iCal//NONSGML kigkonsult.se iCalcreator 2.20.2//
METHOD:PUBLISH
X-WR-CALNAME;VALUE=TEXT:Axenda de Galica Aberta
BEGIN:VTIMEZONE
TZID:Europe/Madrid
BEGIN:STANDARD
DTSTART:20121028T030000
TZOFFSETFROM:+0200
TZOFFSETTO:+0100
TZNAME:CET
END:STANDARD
BEGIN:DAYLIGHT
DTSTART:20130331T020000
TZOFFSETFROM:+0100
TZOFFSETTO:+0200
TZNAME:CEST
END:DAYLIGHT
END:VTIMEZONE
BEGIN:VEVENT
UID:calendar.19758.field_inicio.0@emigracion.xunta.gal
DTSTAMP:20260419T153237Z
CREATED:20121120T101827Z
DESCRIPTION:I Certame de poesía en lingua galega 'Manuel María'\n\nhttps://
 emigracion.xunta.gal/actualidade/axenda/i-certame-poesia-lingua-galega-man
 uel-maria
DTSTART;VALUE=DATE:20130317
DTEND;VALUE=DATE:20130318
LAST-MODIFIED:20190718T104240Z
SUMMARY:I Certame de poesía en lingua galega 'Manuel María'
URL;TYPE=URI:https://emigracion.xunta.gal/actualidade/axenda/i-certame-poes
 ia-lingua-galega-manuel-maria
END:VEVENT
END:VCALENDAR
