BEGIN:VCALENDAR
VERSION:2.0
PRODID:-//Date iCal//NONSGML kigkonsult.se iCalcreator 2.20.2//
METHOD:PUBLISH
X-WR-CALNAME;VALUE=TEXT:Axenda de Galica Aberta
BEGIN:VTIMEZONE
TZID:Europe/Madrid
BEGIN:STANDARD
DTSTART:20101031T030000
TZOFFSETFROM:+0200
TZOFFSETTO:+0100
TZNAME:CET
END:STANDARD
BEGIN:DAYLIGHT
DTSTART:20110327T020000
TZOFFSETFROM:+0100
TZOFFSETTO:+0200
TZNAME:CEST
END:DAYLIGHT
END:VTIMEZONE
BEGIN:VEVENT
UID:calendar.13067.field_inicio.0@emigracion.xunta.gal
DTSTAMP:20260421T164700Z
CREATED:20110311T125512Z
DESCRIPTION:Conmemoración do Día Internacional da Muller Traballadora pola 
 Federación de Asociaciones Gallegas de la República Argentina\n\nhttps://e
 migracion.xunta.gal/actualidade/axenda/conmemoracion-dia-internacional-mul
 ler-traballadora-pola-federacion-asociaciones
DTSTART;VALUE=DATE:20110312
DTEND;VALUE=DATE:20110313
LAST-MODIFIED:20190718T102903Z
SUMMARY:Conmemoración do Día Internacional da Muller Traballadora pola Fede
 ración de Asociaciones Gallegas de la República Argentina
URL;TYPE=URI:https://emigracion.xunta.gal/actualidade/axenda/conmemoracion-
 dia-internacional-muller-traballadora-pola-federacion-asociaciones
END:VEVENT
END:VCALENDAR
